BEGIN:VCALENDAR
VERSION:2.0
PRODID:-//Library Market//iCal Export//EN
BEGIN:VEVENT
SUMMARY:Strawberry Bracelets
UID:13666
DTSTAMP:20260425T021500Z
DTSTART:20260701T200000Z
DTEND:20260701T210000Z
LOCATION:400 Uniondale Ave, Uniondale, NY 11553, United States
ROOM: Story Hour Room
DESCRIPTION:Librarian Ash will show you how to make a strawberry pattern b
 racelet.
URL:https://uniondale.librarycalendar.com/event/strawberry-bracelets-13666
END:VEVENT
END:VCALENDAR
