BEGIN:VCALENDAR
VERSION:2.0
PRODID:-//Library Market//iCal Export//EN
BEGIN:VEVENT
SUMMARY:Friendship Bracelets
UID:13582
DTSTAMP:20260421T083700Z
DTSTART:20260420T230000Z
DTEND:20260421T000000Z
LOCATION:400 Uniondale Ave, Uniondale, NY 11553, United States
ROOM: Story Hour Room
DESCRIPTION:Grades 3 - 5Come and craft at the library with our friendship 
 bracelet beads!
URL:https://uniondale.librarycalendar.com/event/friendship-bracelets-13582
END:VEVENT
END:VCALENDAR
