BEGIN:VCALENDAR
VERSION:2.0
PRODID:-//Library Market//iCal Export//EN
BEGIN:VEVENT
SUMMARY:Zumba
UID:10282
DTSTAMP:20260425T115400Z
DTSTART:20260527T230000Z
DTEND:20260528T000000Z
LOCATION:400 Uniondale Ave, Uniondale, NY 11553, United States
ROOM: Meeting Room
DESCRIPTION:
URL:https://uniondale.librarycalendar.com/event/zumba-10282
END:VEVENT
END:VCALENDAR
